BEGIN:VCALENDAR
VERSION:2.0
PRODID:-//Helensville Community News - ECPv4.6.25//NONSGML v1.0//EN
CALSCALE:GREGORIAN
METHOD:PUBLISH
X-WR-CALNAME:Helensville Community News
X-ORIGINAL-URL:https://helensvillecommunitynews.co.nz
X-WR-CALDESC:Events for Helensville Community News
BEGIN:VEVENT
DTSTART;TZID=Pacific/Auckland:20240408T090000
DTEND;TZID=Pacific/Auckland:20240408T160000
DTSTAMP:20260425T012437
CREATED:20240408T022008Z
LAST-MODIFIED:20240408T022008Z
UID:11577-1712566800-1712592000@helensvillecommunitynews.co.nz
SUMMARY:4x4 Outdoor Expo
DESCRIPTION:New Zealands Largest 4x4 Outdoor Expo!  "The Place To Build Your 4x4"  4x4 Vendors\, Show & Shine\, Camping & Swap Meet.  Applications now open on the website www.4x4outdoorexpo.co.nz \n
URL:https://helensvillecommunitynews.co.nz/event/4x4-outdoor-expo/
LOCATION:Kumeu Showgrounds\, Access Road\, Auckland\, New Zealand
CATEGORIES:Expo
END:VEVENT
END:VCALENDAR