BEGIN:VCALENDAR
VERSION:2.0
PRODID:-//Helensville Community News - ECPv4.6.25//NONSGML v1.0//EN
CALSCALE:GREGORIAN
METHOD:PUBLISH
X-WR-CALNAME:Helensville Community News
X-ORIGINAL-URL:https://helensvillecommunitynews.co.nz
X-WR-CALDESC:Events for Helensville Community News
BEGIN:VEVENT
DTSTART;TZID=Pacific/Auckland:20170610T093000
DTEND;TZID=Pacific/Auckland:20170610T123000
DTSTAMP:20260424T193406
CREATED:20170531T231604Z
LAST-MODIFIED:20170531T231604Z
UID:5772-1497087000-1497097800@helensvillecommunitynews.co.nz
SUMMARY:Antenatal Course
DESCRIPTION:Free antenatal course for expectant parents run by the Helensville Birthing Centre\, covering how to keep healthy during pregnancy\, to pain relief options in labour\, and what happens when baby is finally here. The next block of three consecutive Saturday mornings starts on 10 June and is available for residents living north-west of Riverhead. For more email anc@helensvillehealth.co.nz. \n
URL:https://helensvillecommunitynews.co.nz/event/antenatal-course-2/
LOCATION:Te Whare Oranga o Parakai\, Te Moau Ave\, Parakai\, New Zealand
CATEGORIES:Course
END:VEVENT
END:VCALENDAR