BEGIN:VCALENDAR
VERSION:2.0
PRODID:-//Helensville Community News - ECPv4.6.25//NONSGML v1.0//EN
CALSCALE:GREGORIAN
METHOD:PUBLISH
X-WR-CALNAME:Helensville Community News
X-ORIGINAL-URL:https://helensvillecommunitynews.co.nz
X-WR-CALDESC:Events for Helensville Community News
BEGIN:VEVENT
DTSTART;TZID=Pacific/Auckland:20240425T055000
DTEND;TZID=Pacific/Auckland:20240425T120000
DTSTAMP:20260425T012442
CREATED:20240408T022258Z
LAST-MODIFIED:20240408T022258Z
UID:11581-1714024200-1714046400@helensvillecommunitynews.co.nz
SUMMARY:ANZAC Day\, KMRSA ANZAC Day Services 2024
DESCRIPTION:The Kaipara Memorial RSA will be holding the following services on ANZAC Day;  Dawn Parade at the Kaipatiki Reserve\, 150 Parkhurst Road\, Parakai\, Fall-in 5.50 am\, On Parade 6.00 am. Wreaths will be laid during the course of this service.  Helensville Soldiers Cemetery\, 130 Garfield Road\, Helensville\, a short Commemoration and Remembrance Ceremony\, where the KMRSA will lay a wreath at the Cenotaph at 6.55 am (Sunrise). The service starts at 6.45am.  ANZAC Day breakfast 8.00 am\, at KMRSA Clubrooms. (TBC)  Kaukapakapa Memorial Hall Service\, 947 Kaipara Coast Highway\, KKK\, Parade fall-in 9.50am\, Ceremony starts 10.00 am at the Cenotaph\, followed by morning tea in the KKK Memorial Hall. \nThis year\, due to the uncertainty about the completion of the Kaipara Memorial RSA Clubrooms and the War Memorial Hall\, there will no 11.00 am ANZAC Service at the Helensville War Memorial Cenotaph. \n
URL:https://helensvillecommunitynews.co.nz/event/anzac-day-kmrsa-anzac-day-services-2024/
CATEGORIES:Community Event
END:VEVENT
END:VCALENDAR