BEGIN:VCALENDAR
VERSION:2.0
PRODID:-//Helensville Community News - ECPv4.6.25//NONSGML v1.0//EN
CALSCALE:GREGORIAN
METHOD:PUBLISH
X-WR-CALNAME:Helensville Community News
X-ORIGINAL-URL:https://helensvillecommunitynews.co.nz
X-WR-CALDESC:Events for Helensville Community News
BEGIN:VEVENT
DTSTART;TZID=Pacific/Auckland:20171014T190000
DTEND;TZID=Pacific/Auckland:20171014T204500
DTSTAMP:20260424T193801
CREATED:20170901T023305Z
LAST-MODIFIED:20170901T023305Z
UID:6143-1508007600-1508013900@helensvillecommunitynews.co.nz
SUMMARY:Auckland Youth Orchestr
DESCRIPTION: \nCome and hear the Auckland Youth Orchestra at its finest. Conductor Antun Poljanich presents Berlioz’ Symphonie Fantastique\, written for huge orchestra\, and John Wells’ beautiful new organ concerto. AYO is comprised of many of our city’s most talented young musicians (ages 14-26) - don’t miss this experience! Not suitable for young children. Door sales available. Adults $20\, Senior $15\, Student/Child $10.Door Sales (cash\, no Eftpos) or book via Eventfinda. \n
URL:https://helensvillecommunitynews.co.nz/event/auckland-youth-orchestr/
LOCATION:Helensville War Memorial Hall\, 49 Commercial Road\, Helensville\, New Zealand
CATEGORIES:Music
END:VEVENT
END:VCALENDAR