BEGIN:VCALENDAR
VERSION:2.0
PRODID:-//Helensville Community News - ECPv4.6.25//NONSGML v1.0//EN
CALSCALE:GREGORIAN
METHOD:PUBLISH
X-WR-CALNAME:Helensville Community News
X-ORIGINAL-URL:https://helensvillecommunitynews.co.nz
X-WR-CALDESC:Events for Helensville Community News
BEGIN:VEVENT
DTSTART;TZID=Pacific/Auckland:20221012T193000
DTEND;TZID=Pacific/Auckland:20221012T210000
DTSTAMP:20260424T184212
CREATED:20220922T225231Z
LAST-MODIFIED:20220922T225231Z
UID:10158-1665603000-1665608400@helensvillecommunitynews.co.nz
SUMMARY:Believe It or Not Quiz night
DESCRIPTION:Bistro and Bar open from 5.30pm at club prices. Visitors welcome. \n
URL:https://helensvillecommunitynews.co.nz/event/believe-it-or-not-quiz-night-2/
LOCATION:Waimauku RSA\, 891 State Highway 16\, Waimauku\, 0812\, New Zealand
CATEGORIES:Quiz Night
END:VEVENT
END:VCALENDAR