BEGIN:VCALENDAR
VERSION:2.0
PRODID:-//Helensville Community News - ECPv4.6.25//NONSGML v1.0//EN
CALSCALE:GREGORIAN
METHOD:PUBLISH
X-WR-CALNAME:Helensville Community News
X-ORIGINAL-URL:https://helensvillecommunitynews.co.nz
X-WR-CALDESC:Events for Helensville Community News
BEGIN:VEVENT
DTSTART;TZID=Pacific/Auckland:20170804T100000
DTEND;TZID=Pacific/Auckland:20170804T120000
DTSTAMP:20260424T223720
CREATED:20170802T004315Z
LAST-MODIFIED:20170802T004315Z
UID:6003-1501840800-1501848000@helensvillecommunitynews.co.nz
SUMMARY:Big Latch On
DESCRIPTION:The Big Latch On is a nationwide event involving women at registered venues all breastfeeding at the same time. Breastfeeding mums from the Rodney area are invited to this local event hosted by the Helensville Birthing Centre with morning tea provided and lots of spot prizes up for grabs. Find out more on our Facebook event page - The Big Latch On Helensville. \n
URL:https://helensvillecommunitynews.co.nz/event/big-latch-on/
LOCATION:Te Whare Oranga o Parakai\, Te Moau Ave\, Parakai\, New Zealand
CATEGORIES:FREE EVENTS
END:VEVENT
END:VCALENDAR