BEGIN:VCALENDAR
VERSION:2.0
PRODID:-//Helensville Community News - ECPv4.6.25//NONSGML v1.0//EN
CALSCALE:GREGORIAN
METHOD:PUBLISH
X-WR-CALNAME:Helensville Community News
X-ORIGINAL-URL:https://helensvillecommunitynews.co.nz
X-WR-CALDESC:Events for Helensville Community News
BEGIN:VEVENT
DTSTART;TZID=Pacific/Auckland:20180930T080000
DTEND;TZID=Pacific/Auckland:20180930T170000
DTSTAMP:20260424T193749
CREATED:20180830T231055Z
LAST-MODIFIED:20180830T231055Z
UID:7203-1538294400-1538326800@helensvillecommunitynews.co.nz
SUMMARY:Breast Cancer High Tea
DESCRIPTION:The Helensville District Health Trust is hosting a high tea on the eve of Breast Cancer Awareness month to highlight this important health issue that claims the lives of 600 New Zealand women a year.  Jools Topp will MC the event\, which will include talks from local breast cancer survivors\, relatives and health professionals. Tickets are $35 each or $200 for a table of six. Email events@hdht.co.nz to book. \n
URL:https://helensvillecommunitynews.co.nz/event/breast-cancer-high-tea/
LOCATION:Te Whare Oranga o Parakai\, Te Moau Ave\, Parakai\, New Zealand
END:VEVENT
END:VCALENDAR