BEGIN:VCALENDAR
VERSION:2.0
PRODID:-//Helensville Community News - ECPv4.6.25//NONSGML v1.0//EN
CALSCALE:GREGORIAN
METHOD:PUBLISH
X-WR-CALNAME:Helensville Community News
X-ORIGINAL-URL:https://helensvillecommunitynews.co.nz
X-WR-CALDESC:Events for Helensville Community News
BEGIN:VEVENT
DTSTART;TZID=Pacific/Auckland:20180304T100000
DTEND;TZID=Pacific/Auckland:20180304T130000
DTSTAMP:20260425T001701
CREATED:20180201T004301Z
LAST-MODIFIED:20180201T004301Z
UID:6601-1520157600-1520168400@helensvillecommunitynews.co.nz
SUMMARY:Childrens Day Out
DESCRIPTION:We enthusiastically invite all Parents\, Children\, Grandparents\, Aunts and Uncles\, Friends to come along and enjoy a fun filled positive family day. Experience fun and play with your children and take the opportunity to meet new people. It’s also a chance to get to know other local Community Organisations and Kindergartens/Preschools. Other attractions on the day include Dance & Music Performances\, Food Stalls\, Activity Tables inside & out\, face painting plus some great prizes. All activities cater for children aged between 0-12yrs old. If you would like to get more information or to register a stall for Children’s Day Out\, contact Tania Mansell at the centre (09) 420 7992 or info@hwfc.co.nz \n
URL:https://helensvillecommunitynews.co.nz/event/childrens-day-out-2/
CATEGORIES:Community Event,FREE EVENTS
END:VEVENT
END:VCALENDAR