BEGIN:VCALENDAR
VERSION:2.0
PRODID:-//Helensville Community News - ECPv4.6.25//NONSGML v1.0//EN
CALSCALE:GREGORIAN
METHOD:PUBLISH
X-WR-CALNAME:Helensville Community News
X-ORIGINAL-URL:https://helensvillecommunitynews.co.nz
X-WR-CALDESC:Events for Helensville Community News
BEGIN:VEVENT
DTSTART;TZID=Pacific/Auckland:20221112T183000
DTEND;TZID=Pacific/Auckland:20221112T223000
DTSTAMP:20260425T040323
CREATED:20221005T034739Z
LAST-MODIFIED:20221031T215414Z
UID:10257-1668277800-1668292200@helensvillecommunitynews.co.nz
SUMMARY:Chill in the Ville
DESCRIPTION:  \n  \n
URL:https://helensvillecommunitynews.co.nz/event/chill-in-the-ville-3/
LOCATION:Kaipara Tavern\, 26 Commercial Road\, Helensville\, New Zealand
CATEGORIES:Fundraiser,Music
ATTACH;FMTTYPE=image/jpeg:https://helensvillecommunitynews.co.nz/wp-content/uploads/2022/10/CHILL-in-the-VILLE.jpg
END:VEVENT
END:VCALENDAR