BEGIN:VCALENDAR
VERSION:2.0
PRODID:-//Helensville Community News - ECPv4.6.25//NONSGML v1.0//EN
CALSCALE:GREGORIAN
METHOD:PUBLISH
X-WR-CALNAME:Helensville Community News
X-ORIGINAL-URL:https://helensvillecommunitynews.co.nz
X-WR-CALDESC:Events for Helensville Community News
BEGIN:VEVENT
DTSTART;TZID=Pacific/Auckland:20200111T140000
DTEND;TZID=Pacific/Auckland:20200111T230000
DTSTAMP:20260424T154336
CREATED:20191219T205238Z
LAST-MODIFIED:20191219T205238Z
UID:8439-1578751200-1578783600@helensvillecommunitynews.co.nz
SUMMARY:Chill in the Ville - Music Festival
DESCRIPTION:The Chill in the Ville music festival is returning on Saturday January 11th at the Kaipara Tavern garden bar in what’s shaping up to be a great afternoon and night of entertainment with 4 bands and 2 DJ’S. Helensville’s favourite band The Recipe will be headlining with support from ex Kaipara College band Old Mate and the M8s.\nNew Zealand rock legend Jimmy Christmas of D4 fame will be belting out some hits in a typical high octane set\, and the Hired Hand will be warming up the crowd earlier in the afternoon.\nLeading UK garage house DJ Kris PERCIVAL will spin some uplifting tracks during his set\, with popular local DJ PRIOR also sure to impress with his easy listening vibe.\nThere will be a food truck on site and tickets are now available from the Kaipara Tavern for just $20 with $2 going to local charity the Angel Fund.\nCome along and support your local musicians in what is promising to be a huge afternoon and night of music.\nFirst band is on at 2pm. \n
URL:https://helensvillecommunitynews.co.nz/event/chill-in-the-ville-music-festival/
LOCATION:Kaipara Tavern\, 26 Commercial Road\, Helensville\, New Zealand
CATEGORIES:Music
END:VEVENT
END:VCALENDAR