BEGIN:VCALENDAR
VERSION:2.0
PRODID:-//Helensville Community News - ECPv4.6.25//NONSGML v1.0//EN
CALSCALE:GREGORIAN
METHOD:PUBLISH
X-WR-CALNAME:Helensville Community News
X-ORIGINAL-URL:https://helensvillecommunitynews.co.nz
X-WR-CALDESC:Events for Helensville Community News
BEGIN:VEVENT
DTSTART;TZID=Pacific/Auckland:20180310T110000
DTEND;TZID=Pacific/Auckland:20180310T114500
DTSTAMP:20260425T032958
CREATED:20180201T004736Z
LAST-MODIFIED:20180201T004736Z
UID:6603-1520679600-1520682300@helensvillecommunitynews.co.nz
SUMMARY:Chop Chop Hiyaaa!
DESCRIPTION:Welcome to terrifically cheeky\, wonderfully naughty and magical world of Chop Chop Hiyaaa! Where witches and taniwha gobble you up and rats are naughty ninjas!\, Born out of long nights\, long car drives and long temper tantrums from her three boys\, music from Anika’s wildly successful Songs For Bubbas albums – full of irresistible songs in both Te Reo Maori and English – features in this wicked live show of singing\, dancing and frightful fun. General Admission $10\, Family Pass $28 Tickets at www.aucklandfestival.co.nz/events/chop-chop-hiyaaa-at-auckland-wide/#_=_ \n
URL:https://helensvillecommunitynews.co.nz/event/chop-chop-hiyaaa/
LOCATION:Helensville War Memorial Hall\, 49 Commercial Road\, Helensville\, New Zealand
CATEGORIES:Stage Show
END:VEVENT
END:VCALENDAR