BEGIN:VCALENDAR
VERSION:2.0
PRODID:-//Helensville Community News - ECPv4.6.25//NONSGML v1.0//EN
CALSCALE:GREGORIAN
METHOD:PUBLISH
X-WR-CALNAME:Helensville Community News
X-ORIGINAL-URL:https://helensvillecommunitynews.co.nz
X-WR-CALDESC:Events for Helensville Community News
BEGIN:VEVENT
DTSTART;TZID=Pacific/Auckland:20170821T100000
DTEND;TZID=Pacific/Auckland:20170821T120000
DTSTAMP:20260425T035802
CREATED:20170802T010943Z
LAST-MODIFIED:20170802T010943Z
UID:6022-1503309600-1503316800@helensvillecommunitynews.co.nz
SUMMARY:Citizens Advice Bureau AGM
DESCRIPTION:The community is invited to the AGM of the Helensville Citizens Advice Bureau on 10am-12pm at Te Whare Oranga ô Parakai. Rodney Local Board member Brenda Steele is our guest speaker and a light morning tea will be served. RSVP to manager.helensville@cab.org.nz. \n
URL:https://helensvillecommunitynews.co.nz/event/citizens-advice-bureau-agm/
LOCATION:Te Whare Oranga o Parakai\, Te Moau Ave\, Parakai\, New Zealand
CATEGORIES:AGM
END:VEVENT
END:VCALENDAR