BEGIN:VCALENDAR
VERSION:2.0
PRODID:-//Helensville Community News - ECPv4.6.25//NONSGML v1.0//EN
CALSCALE:GREGORIAN
METHOD:PUBLISH
X-WR-CALNAME:Helensville Community News
X-ORIGINAL-URL:https://helensvillecommunitynews.co.nz
X-WR-CALDESC:Events for Helensville Community News
BEGIN:VEVENT
DTSTART;TZID=Pacific/Auckland:20240928T093000
DTEND;TZID=Pacific/Auckland:20240928T113000
DTSTAMP:20260424T195216
CREATED:20240825T234634Z
LAST-MODIFIED:20240825T234634Z
UID:11916-1727515800-1727523000@helensvillecommunitynews.co.nz
SUMMARY:Create a Kitchen Garden Workshop
DESCRIPTION:If you would like to offset some of the impact of the dramatic increases in food prices\, particularly fresh fruit and vegetables and whether you have a large garden or more limited space\, it’s definitely worthwhile considering growing your own.  This workshop\, presented by our in-house expert David Bayly will give you all the basics of the “what\, when and where” to create your own kitchen garden and derive optimum value from it.  It’s also a very rewarding experience to see your plantings grow and to know that what you and the family are eating is derived from your own efforts. As well as being assured of its origins and purity.  In this relaxed and interactive 2 hour workshop David will be discussing: Tools required\, Pros & cons of various varieties\, Site selection and preparation\, Planting\, methodologies/techniques\, General plant care\, When to plant and harvest.  Our workshops are generally very popular and numbers are limited so booking is essential (see below for booking details).  Afterwards you will also be able to stroll around the beautiful Sculpture Gardens which has around 40 marvellous pieces created for our 2024 exhibition by local and international artists on display; as well as the extended nature trail (approximately 3.5km in total).  We also have our cute little coffee shop on site plus of course the Plant Centre for you to browse through.  Our knowledgeable and friendly staff will also be on hand to help with any other garden related questions.  The gardens and nature trail are unfortunately not suitable for wheelchairs or walking frames.  Venue location: 1481 Kaipara Coast Highway (SH16)\, 4km north of Kaukapakapa  Tickets: $25 per person  To book online please go to:  https://kaiparacoastplantcentre.com/https:/kaiparacoastplantcentre.com/home/online-store/product-category/sample-product/workshop-kitchen-garden-28-9-24/ \n
URL:https://helensvillecommunitynews.co.nz/event/create-a-kitchen-garden-workshop/
LOCATION:Kaipara Coast Plant Centre\, 1481 Kaipara Coast Highway\, Kaukapakapa\, New Zealand
CATEGORIES:Workshop
END:VEVENT
END:VCALENDAR