BEGIN:VCALENDAR
VERSION:2.0
PRODID:-//Helensville Community News - ECPv4.6.25//NONSGML v1.0//EN
CALSCALE:GREGORIAN
METHOD:PUBLISH
X-WR-CALNAME:Helensville Community News
X-ORIGINAL-URL:https://helensvillecommunitynews.co.nz
X-WR-CALDESC:Events for Helensville Community News
BEGIN:VEVENT
DTSTART;TZID=Pacific/Auckland:20230317T200000
DTEND;TZID=Pacific/Auckland:20230317T233000
DTSTAMP:20260425T102816
CREATED:20230301T011114Z
LAST-MODIFIED:20230301T011147Z
UID:10570-1679083200-1679095800@helensvillecommunitynews.co.nz
SUMMARY:D24 6twenty One Tour
DESCRIPTION: \nOctober 28 2022 marked the 21st anniversary of The D4’s critically acclaimed debut album\, ‘6TWENTY’. To celebrate The D4 are not only rereleasing the album\, but are hitting the road on a nationwide tour in March 2023. \n
URL:https://helensvillecommunitynews.co.nz/event/d24-6twenty-one-tour/
LOCATION:Kaipara Tavern\, 26 Commercial Road\, Helensville\, New Zealand
CATEGORIES:Music
END:VEVENT
END:VCALENDAR