BEGIN:VCALENDAR
VERSION:2.0
PRODID:-//Helensville Community News - ECPv4.6.25//NONSGML v1.0//EN
CALSCALE:GREGORIAN
METHOD:PUBLISH
X-WR-CALNAME:Helensville Community News
X-ORIGINAL-URL:https://helensvillecommunitynews.co.nz
X-WR-CALDESC:Events for Helensville Community News
BEGIN:VEVENT
DTSTART;TZID=Pacific/Auckland:20170613T103000
DTEND;TZID=Pacific/Auckland:20170613T123000
DTSTAMP:20260424T210425
CREATED:20170531T231718Z
LAST-MODIFIED:20170531T231718Z
UID:5774-1497349800-1497357000@helensvillecommunitynews.co.nz
SUMMARY:Diabetes Self-Management
DESCRIPTION:If you or someone you care for has diabetes then you’re invited to attend this free course aimed at giving you the tools to successfully manage the condition on a day to day basis. The course runs in blocks of four consecutive Tuesday mornings. The next course starts Tuesday June 13. Contact Paula.takiwa@procare.co.nz for more information.  \n
URL:https://helensvillecommunitynews.co.nz/event/diabetes-self-management/
LOCATION:Te Whare Oranga o Parakai\, Te Moau Ave\, Parakai\, New Zealand
CATEGORIES:Course
END:VEVENT
END:VCALENDAR