BEGIN:VCALENDAR
VERSION:2.0
PRODID:-//Helensville Community News - ECPv4.6.25//NONSGML v1.0//EN
CALSCALE:GREGORIAN
METHOD:PUBLISH
X-WR-CALNAME:Helensville Community News
X-ORIGINAL-URL:https://helensvillecommunitynews.co.nz
X-WR-CALDESC:Events for Helensville Community News
BEGIN:VEVENT
DTSTART;TZID=Pacific/Auckland:20170821T190000
DTEND;TZID=Pacific/Auckland:20170821T213000
DTSTAMP:20260425T035802
CREATED:20170802T011246Z
LAST-MODIFIED:20170802T011246Z
UID:6024-1503342000-1503351000@helensvillecommunitynews.co.nz
SUMMARY:Electorate Candidate Meeting
DESCRIPTION:WHO TO VOTE FOR?\nHelensville and Te Tai Tokerau electorate candidates.\nOpportunity to hear them and have your questions answered. \nPolitical Parties will be available for information and discussion in the church hall from 6pm.\nAttending:\nHELENSVILLE\nNational - Chris Penk\, Labour - Kurt Taogaga\, Green - Hayley Holt\, N Z First - Helen Peterson\, Act - Nick Kearney\, The Opportunities Party - David Fitzgerald \n
URL:https://helensvillecommunitynews.co.nz/event/electorate-candidate-meeting/
LOCATION:Kumeu Baptist Church\, 21 Access Road\, Kumeu\, New Zealand
CATEGORIES:Meeting
END:VEVENT
END:VCALENDAR