BEGIN:VCALENDAR
VERSION:2.0
PRODID:-//Helensville Community News - ECPv4.6.25//NONSGML v1.0//EN
CALSCALE:GREGORIAN
METHOD:PUBLISH
X-WR-CALNAME:Helensville Community News
X-ORIGINAL-URL:https://helensvillecommunitynews.co.nz
X-WR-CALDESC:Events for Helensville Community News
BEGIN:VEVENT
DTSTART;TZID=Pacific/Auckland:20251121T190000
DTEND;TZID=Pacific/Auckland:20251121T220000
DTSTAMP:20260422T224338
CREATED:20251103T024038Z
LAST-MODIFIED:20251103T024038Z
UID:12894-1763751600-1763762400@helensvillecommunitynews.co.nz
SUMMARY:Elton John vs Billy Joel NZ Tribute
DESCRIPTION:Doors open 7pm \, show starts 8pm sharp. After sell-out shows across New Zealand\, Cam and Sam bring you an intimate\, unforgettable night of the greatest hits from Elton John and Billy Joel — including “Piano Man\,” “Rocket Man\,” “Uptown Girl\,” “Bennie and the Jets\,” and more.  These seasoned NZ musicians\, with two decades of national TV\, radio\, and chart success\, deliver a dazzling Piano Man extravaganza featuring two grand pianos\, stunning costumes\, lively banter\, and timeless songs loved by generations. With over 450 million records sold between them\, Elton John and Billy Joel’s legendary music needs no introduction — and Cam and Sam do it justice. \n
URL:https://helensvillecommunitynews.co.nz/event/elton-john-vs-billy-joel-nz-tribute/
LOCATION:The Original Kaipara Tavern\, 26 Commercial Road\, Helensville\, 0800\, New Zealand
CATEGORIES:Music
END:VEVENT
END:VCALENDAR