BEGIN:VCALENDAR
VERSION:2.0
PRODID:-//Helensville Community News - ECPv4.6.25//NONSGML v1.0//EN
CALSCALE:GREGORIAN
METHOD:PUBLISH
X-WR-CALNAME:Helensville Community News
X-ORIGINAL-URL:https://helensvillecommunitynews.co.nz
X-WR-CALDESC:Events for Helensville Community News
BEGIN:VEVENT
DTSTART;TZID=Pacific/Auckland:20230121T050000
DTEND;TZID=Pacific/Auckland:20230121T210000
DTSTAMP:20260425T102939
CREATED:20221229T000930Z
LAST-MODIFIED:20221229T000930Z
UID:10414-1674277200-1674334800@helensvillecommunitynews.co.nz
SUMMARY:Food Truck Collective Kumeu
DESCRIPTION:Food Trucks are heading to Kumeu!  Tell your mates\, family & neighbours as no one will want to miss this amazing selection of street food.  Music and entertainment\, plus a craft beer pop up bar.  Plenty of seating and an atmosphere you can only truly experience at an outdoor Street Food event.  Food Truck line up: Check out the Facebook Event Page for all the vendors & date information. \n
URL:https://helensvillecommunitynews.co.nz/event/food-truck-collective-kumeu/
LOCATION:Huapai Domain\, Tapu Road\, Huapai\, New Zealand
END:VEVENT
END:VCALENDAR