BEGIN:VCALENDAR
VERSION:2.0
PRODID:-//Helensville Community News - ECPv4.6.25//NONSGML v1.0//EN
CALSCALE:GREGORIAN
METHOD:PUBLISH
X-WR-CALNAME:Helensville Community News
X-ORIGINAL-URL:https://helensvillecommunitynews.co.nz
X-WR-CALDESC:Events for Helensville Community News
BEGIN:VEVENT
DTSTART;TZID=Pacific/Auckland:20170817T180000
DTEND;TZID=Pacific/Auckland:20170817T220000
DTSTAMP:20260424T193912
CREATED:20170802T005850Z
LAST-MODIFIED:20170802T005850Z
UID:6012-1502992800-1503007200@helensvillecommunitynews.co.nz
SUMMARY:Fund raising quiz for Waioneke School
DESCRIPTION:Fund raising quiz for Waioneke School being held at the Kaipara Memorial RSA Commercial Road Helensville. All Welcome. Meals from 6:00 Quiz starts at 7:00. Raffles and full bar service. Come along and support Waioneke School and check out the updated RSA rooms.  Teams of 6 Admission $10 per person.  All cost of entry goes to Waioneke School. \n \n
URL:https://helensvillecommunitynews.co.nz/event/fund-raising-quiz-for-waioneke-school/
LOCATION:Kaipara Memorial RSA\, 49 Commercial Road\, Helensville\, Auckland\, 0874\, New Zealand
CATEGORIES:Fundraiser,Quiz Night
END:VEVENT
END:VCALENDAR