BEGIN:VCALENDAR
VERSION:2.0
PRODID:-//Helensville Community News - ECPv4.6.25//NONSGML v1.0//EN
CALSCALE:GREGORIAN
METHOD:PUBLISH
X-WR-CALNAME:Helensville Community News
X-ORIGINAL-URL:https://helensvillecommunitynews.co.nz
X-WR-CALDESC:Events for Helensville Community News
BEGIN:VEVENT
DTSTART;TZID=Pacific/Auckland:20170614T183000
DTEND;TZID=Pacific/Auckland:20170614T203000
DTSTAMP:20260424T193913
CREATED:20170531T233519Z
LAST-MODIFIED:20170531T233519Z
UID:5777-1497465000-1497472200@helensvillecommunitynews.co.nz
SUMMARY:Fundraiser for the Kaukapakapa Playground
DESCRIPTION: \n
URL:https://helensvillecommunitynews.co.nz/event/fundraiser-for-the-kaukapakapa-playground/
LOCATION:Waitoki School Hall\, 1119 Kahikatea Flat Road\, Waitoki\, New Zealand
CATEGORIES:Course,Fundraiser
END:VEVENT
END:VCALENDAR