BEGIN:VCALENDAR
VERSION:2.0
PRODID:-//Helensville Community News - ECPv4.6.25//NONSGML v1.0//EN
CALSCALE:GREGORIAN
METHOD:PUBLISH
X-WR-CALNAME:Helensville Community News
X-ORIGINAL-URL:https://helensvillecommunitynews.co.nz
X-WR-CALDESC:Events for Helensville Community News
BEGIN:VEVENT
DTSTART;TZID=Pacific/Auckland:20191124T090000
DTEND;TZID=Pacific/Auckland:20191124T130000
DTSTAMP:20260425T040006
CREATED:20191031T230804Z
LAST-MODIFIED:20191031T230804Z
UID:8366-1574586000-1574600400@helensvillecommunitynews.co.nz
SUMMARY:Get ready for Shine in d’Ville
DESCRIPTION:Kaipara Classic Car Club\, combining with Huapai Rodders and major sponsor Generation Homes\, are holding their annual fundraising car show Shine in d’Ville in the grounds of Helensville Museum on Sunday 24 November. KCCC has held this fundraiser for the past eight years\, with the idea initially to help the local community with the proceeds of the show going to the Museum.\nWe have all varieties of cars and bikes and this year is the first to include military vehicles.Auction and prize giving will be held at 1pm at the clubrooms directly opposite the museum (Swales Yard). Food and drink will be available\, so come and make a day of it. \nEntry: vehicles and driver $5.00. Gold coin donations for spectators. Under 12 years free.\nLast year’s show was rained out\, but this year we’re going ahead rain or shine. We look forward to seeing you all there. Please come along and support our community. \n
URL:https://helensvillecommunitynews.co.nz/event/get-ready-for-shine-in-dville/
LOCATION:Helensville Museum\, 98 Mill Road\, Helensville\, New Zealand
END:VEVENT
END:VCALENDAR