BEGIN:VCALENDAR
VERSION:2.0
PRODID:-//Helensville Community News - ECPv4.6.25//NONSGML v1.0//EN
CALSCALE:GREGORIAN
METHOD:PUBLISH
X-WR-CALNAME:Helensville Community News
X-ORIGINAL-URL:https://helensvillecommunitynews.co.nz
X-WR-CALDESC:Events for Helensville Community News
BEGIN:VEVENT
DTSTART;TZID=Pacific/Auckland:20190221T100000
DTEND;TZID=Pacific/Auckland:20190221T140000
DTSTAMP:20260425T234343
CREATED:20181012T011537Z
LAST-MODIFIED:20181210T233529Z
UID:7323-1550743200-1550757600@helensvillecommunitynews.co.nz
SUMMARY:Gibbs Farm Visit
DESCRIPTION:Funraiser for Citizens Advice Bureau \nCost includes Transport\, bottle of drinking water\, filled bread roll and entry to the sculpture farm. \nFill in form and drop in the Helensville CAB or email helensville@cab.org.nz.  Please ensure you read the visitor terms of access. \n
URL:https://helensvillecommunitynews.co.nz/event/gibbs-farm-visit/
LOCATION:Gibbs Farm\, Barr Road\, Makarau\, New Zealand
CATEGORIES:Fundraiser
END:VEVENT
END:VCALENDAR