BEGIN:VCALENDAR
VERSION:2.0
PRODID:-//Helensville Community News - ECPv4.6.25//NONSGML v1.0//EN
CALSCALE:GREGORIAN
METHOD:PUBLISH
X-WR-CALNAME:Helensville Community News
X-ORIGINAL-URL:https://helensvillecommunitynews.co.nz
X-WR-CALDESC:Events for Helensville Community News
BEGIN:VEVENT
DTSTART;TZID=Pacific/Auckland:20230318T100000
DTEND;TZID=Pacific/Auckland:20230318T130000
DTSTAMP:20260425T103026
CREATED:20230301T011343Z
LAST-MODIFIED:20230301T011343Z
UID:10574-1679133600-1679144400@helensvillecommunitynews.co.nz
SUMMARY:Harakeke Flax Weaving Workshop Te Awaroa\, Helensville Museum
DESCRIPTION:Have you ever wondered how to correctly and respectfully harvest Harakeke?  Would you like to learn to create a simple rourou (paro) food basket?  Then this entry level workshop is for you! \nCome along and learn from Katriona and Leigh about the fundamentals and practical skills of working with NZ flax.  All materials provided\, open to those 13 years old and over\, $25 per person.  Please book with Eventfinda (Helensville Museum)\, numbers are limited. \nNau te rourou\, naku te rourou\, ka ora ai te iwi \nWith your food basket and my food basket\, the people will thrive. \n
URL:https://helensvillecommunitynews.co.nz/event/harakeke-flax-weaving-workshop-te-awaroa-helensville-museum/
LOCATION:Helensville Museum\, 98 Mill Road\, Helensville\, New Zealand
END:VEVENT
END:VCALENDAR