BEGIN:VCALENDAR
VERSION:2.0
PRODID:-//Helensville Community News - ECPv4.6.25//NONSGML v1.0//EN
CALSCALE:GREGORIAN
METHOD:PUBLISH
X-WR-CALNAME:Helensville Community News
X-ORIGINAL-URL:https://helensvillecommunitynews.co.nz
X-WR-CALDESC:Events for Helensville Community News
BEGIN:VEVENT
DTSTART;TZID=Pacific/Auckland:20160916T090000
DTEND;TZID=Pacific/Auckland:20160916T113000
DTSTAMP:20260424T235538
CREATED:20160902T010027Z
LAST-MODIFIED:20160902T010027Z
UID:4546-1474016400-1474025400@helensvillecommunitynews.co.nz
SUMMARY:Healthy Living Course
DESCRIPTION:A free course\, that runs for 2 1/2 hours each Friday morning for the six weeks. Topics include dealing with the ups and downs of a physical or mental health condition\, relaxation techniques\, communication with family and others\, dealing with difficult emotions\, and tips for eating well and getting a good night’s sleep. At Te Whare Oranga ô Parakai. To register contact Charlene\, 021-772-337 charlene@healthmatters.co.nz; or Pam 09-813-3375\, jpantill@ihug.co.nz. \n
URL:https://helensvillecommunitynews.co.nz/event/healthy-living-course/
LOCATION:Te Whare Oranga o Parakai\, Te Moau Ave\, Parakai\, New Zealand
CATEGORIES:FREE EVENTS
ORGANIZER;CN="Charlene":MAILTO:charlene@healthmatters.co.nz
END:VEVENT
END:VCALENDAR