BEGIN:VCALENDAR
VERSION:2.0
PRODID:-//Helensville Community News - ECPv4.6.25//NONSGML v1.0//EN
CALSCALE:GREGORIAN
METHOD:PUBLISH
X-WR-CALNAME:Helensville Community News
X-ORIGINAL-URL:https://helensvillecommunitynews.co.nz
X-WR-CALDESC:Events for Helensville Community News
BEGIN:VEVENT
DTSTART;TZID=Pacific/Auckland:20170804T193000
DTEND;TZID=Pacific/Auckland:20170804T210000
DTSTAMP:20260424T210425
CREATED:20170802T004445Z
LAST-MODIFIED:20170802T004445Z
UID:6005-1501875000-1501880400@helensvillecommunitynews.co.nz
SUMMARY:Helensville Aglow
DESCRIPTION:Professional boxer\, Ali Leasuasu Dutt from Superfire Ministries\, will be sharing. All welcome. Contact yvonne@hello.net.nz for more information. \n
URL:https://helensvillecommunitynews.co.nz/event/helensville-aglow-13/
LOCATION:Helensville Community Church\, 40 Mill Road\, Helensville\, 0800\, New Zealand
ORGANIZER;CN="Yvonne":MAILTO:yvonne@hello.net.nz
END:VEVENT
END:VCALENDAR