BEGIN:VCALENDAR
VERSION:2.0
PRODID:-//Helensville Community News - ECPv4.6.25//NONSGML v1.0//EN
CALSCALE:GREGORIAN
METHOD:PUBLISH
X-WR-CALNAME:Helensville Community News
X-ORIGINAL-URL:https://helensvillecommunitynews.co.nz
X-WR-CALDESC:Events for Helensville Community News
BEGIN:VEVENT
DTSTART;TZID=Pacific/Auckland:20171103T193000
DTEND;TZID=Pacific/Auckland:20171103T210000
DTSTAMP:20260425T111302
CREATED:20171003T020025Z
LAST-MODIFIED:20171003T020025Z
UID:6245-1509737400-1509742800@helensvillecommunitynews.co.nz
SUMMARY:Helensville Aglow
DESCRIPTION:Our speaker will be pastor\, counsellor and author\, Jenny Sharkey from Jesus Hub.  Men and women are welcome. \n
URL:https://helensvillecommunitynews.co.nz/event/helensville-aglow-15/
LOCATION:Helensville Community Church\, 40 Mill Road\, Helensville\, 0800\, New Zealand
CATEGORIES:Community Event
ORGANIZER;CN="Yvonne":MAILTO:yvonne@hello.net.nz
END:VEVENT
END:VCALENDAR