BEGIN:VCALENDAR
VERSION:2.0
PRODID:-//Helensville Community News - ECPv4.6.25//NONSGML v1.0//EN
CALSCALE:GREGORIAN
METHOD:PUBLISH
X-WR-CALNAME:Helensville Community News
X-ORIGINAL-URL:https://helensvillecommunitynews.co.nz
X-WR-CALDESC:Events for Helensville Community News
BEGIN:VEVENT
DTSTART;TZID=Pacific/Auckland:20180406T193000
DTEND;TZID=Pacific/Auckland:20180406T213000
DTSTAMP:20260425T001139
CREATED:20171026T220256Z
LAST-MODIFIED:20180313T002337Z
UID:6362-1523043000-1523050200@helensvillecommunitynews.co.nz
SUMMARY:Helensville Aglow
DESCRIPTION:Our speaker will be the director of Healing Rooms NZ\, Julie Calvert.  All welcome. Contact yvonne@hello.net.nz if you want more information. \n
URL:https://helensvillecommunitynews.co.nz/event/helensville-aglow-16/
LOCATION:Helensville Community Church\, 40 Mill Road\, Helensville\, 0800\, New Zealand
CATEGORIES:Community Event
ORGANIZER;CN="Yvonne":MAILTO:yvonne@hello.net.nz
END:VEVENT
END:VCALENDAR