BEGIN:VCALENDAR
VERSION:2.0
PRODID:-//Helensville Community News - ECPv4.6.25//NONSGML v1.0//EN
CALSCALE:GREGORIAN
METHOD:PUBLISH
X-WR-CALNAME:Helensville Community News
X-ORIGINAL-URL:https://helensvillecommunitynews.co.nz
X-WR-CALDESC:Events for Helensville Community News
BEGIN:VEVENT
DTSTART;TZID=Pacific/Auckland:20180706T193000
DTEND;TZID=Pacific/Auckland:20180706T193000
DTSTAMP:20260425T040006
CREATED:20180502T014321Z
LAST-MODIFIED:20180530T223856Z
UID:6833-1530905400-1530905400@helensvillecommunitynews.co.nz
SUMMARY:Helensville Aglow
DESCRIPTION:Our speaker will be the director of Streams Pacific Training Centre\, Cherie Trent..  All welcome. Contact yvonne@hello.net.nz if you want more information. \n
URL:https://helensvillecommunitynews.co.nz/event/helensville-aglow-18/
LOCATION:Helensville Community Church\, 40 Mill Road\, Helensville\, 0800\, New Zealand
CATEGORIES:FREE EVENTS
ORGANIZER;CN="Yvonne":MAILTO:yvonne@hello.net.nz
END:VEVENT
END:VCALENDAR