BEGIN:VCALENDAR
VERSION:2.0
PRODID:-//Helensville Community News - ECPv4.6.25//NONSGML v1.0//EN
CALSCALE:GREGORIAN
METHOD:PUBLISH
X-WR-CALNAME:Helensville Community News
X-ORIGINAL-URL:https://helensvillecommunitynews.co.nz
X-WR-CALDESC:Events for Helensville Community News
BEGIN:VEVENT
DTSTART;TZID=Pacific/Auckland:20181005T193000
DTEND;TZID=Pacific/Auckland:20181005T193000
DTSTAMP:20260424T211113
CREATED:20180830T225859Z
LAST-MODIFIED:20180830T225859Z
UID:7192-1538767800-1538767800@helensvillecommunitynews.co.nz
SUMMARY:Helensville Aglow
DESCRIPTION:Our speaker will be Ngaire Harvey will be sharing on “Facing the Unexpected”.  All welcome.\n
URL:https://helensvillecommunitynews.co.nz/event/helensville-aglow-20/
LOCATION:Helensville Community Church\, 40 Mill Road\, Helensville\, 0800\, New Zealand
ORGANIZER;CN="Yvonne":MAILTO:yvonne@hello.net.nz
END:VEVENT
END:VCALENDAR