BEGIN:VCALENDAR
VERSION:2.0
PRODID:-//Helensville Community News - ECPv4.6.25//NONSGML v1.0//EN
CALSCALE:GREGORIAN
METHOD:PUBLISH
X-WR-CALNAME:Helensville Community News
X-ORIGINAL-URL:https://helensvillecommunitynews.co.nz
X-WR-CALDESC:Events for Helensville Community News
BEGIN:VEVENT
DTSTART;TZID=Pacific/Auckland:20181102T193000
DTEND;TZID=Pacific/Auckland:20181102T193000
DTSTAMP:20260426T012425
CREATED:20180927T234406Z
LAST-MODIFIED:20180927T234406Z
UID:7319-1541187000-1541187000@helensvillecommunitynews.co.nz
SUMMARY:Helensville Aglow
DESCRIPTION:Denise Reid from Four Corners Ministries\, will be ministering.  All welcome. \n
URL:https://helensvillecommunitynews.co.nz/event/helensville-aglow-21/
LOCATION:Helensville Community Church\, 40 Mill Road\, Helensville\, 0800\, New Zealand
ORGANIZER;CN="Yvonne":MAILTO:yvonne@hello.net.nz
END:VEVENT
END:VCALENDAR