BEGIN:VCALENDAR
VERSION:2.0
PRODID:-//Helensville Community News - ECPv4.6.25//NONSGML v1.0//EN
CALSCALE:GREGORIAN
METHOD:PUBLISH
X-WR-CALNAME:Helensville Community News
X-ORIGINAL-URL:https://helensvillecommunitynews.co.nz
X-WR-CALDESC:Events for Helensville Community News
BEGIN:VEVENT
DTSTART;TZID=Pacific/Auckland:20190705T193000
DTEND;TZID=Pacific/Auckland:20190705T210000
DTSTAMP:20260425T111241
CREATED:20190327T003551Z
LAST-MODIFIED:20190528T234637Z
UID:7795-1562355000-1562360400@helensvillecommunitynews.co.nz
SUMMARY:Helensville Aglow
DESCRIPTION:Guest speaker will be Richard Brunton\, author of “The Awesome Power of Blessing”.\nAll welcome.\n
URL:https://helensvillecommunitynews.co.nz/event/helensville-aglow-22/
LOCATION:Helensville Community Church\, 40 Mill Road\, Helensville\, 0800\, New Zealand
CATEGORIES:FREE EVENTS
ORGANIZER;CN="Yvonne":MAILTO:yvonne@hello.net.nz
END:VEVENT
END:VCALENDAR