BEGIN:VCALENDAR
VERSION:2.0
PRODID:-//Helensville Community News - ECPv4.6.25//NONSGML v1.0//EN
CALSCALE:GREGORIAN
METHOD:PUBLISH
X-WR-CALNAME:Helensville Community News
X-ORIGINAL-URL:https://helensvillecommunitynews.co.nz
X-WR-CALDESC:Events for Helensville Community News
BEGIN:VEVENT
DTSTART;TZID=Pacific/Auckland:20190607T193000
DTEND;TZID=Pacific/Auckland:20190607T210000
DTSTAMP:20260425T214708
CREATED:20190528T233909Z
LAST-MODIFIED:20190528T233909Z
UID:7991-1559935800-1559941200@helensvillecommunitynews.co.nz
SUMMARY:Helensville Aglow
DESCRIPTION:Guest speaker will be Julie Calvert\, director of Healing Rooms NZ.  All welcome. \n
URL:https://helensvillecommunitynews.co.nz/event/helensville-aglow-23/
LOCATION:Helensville Community Church\, 40 Mill Road\, Helensville\, 0800\, New Zealand
ORGANIZER;CN="Yvonne":MAILTO:yvonne@hello.net.nz
END:VEVENT
END:VCALENDAR