BEGIN:VCALENDAR
VERSION:2.0
PRODID:-//Helensville Community News - ECPv4.6.25//NONSGML v1.0//EN
CALSCALE:GREGORIAN
METHOD:PUBLISH
X-WR-CALNAME:Helensville Community News
X-ORIGINAL-URL:https://helensvillecommunitynews.co.nz
X-WR-CALDESC:Events for Helensville Community News
BEGIN:VEVENT
DTSTART;TZID=Pacific/Auckland:20191214T090000
DTEND;TZID=Pacific/Auckland:20191214T140000
DTSTAMP:20260424T201003
CREATED:20191126T014006Z
LAST-MODIFIED:20191126T014041Z
UID:8398-1576314000-1576332000@helensvillecommunitynews.co.nz
SUMMARY:Helensville Christmas Market
DESCRIPTION:There’s plenty of parking at the back of the hall. The Market is primarily a community event where people come to sell second hand goods\, arts and crafts and homemade produce\, antiques and collectibles /bric a brac and homemade gift ware.\nWe will be inviting a couple of community groups to come along and participate to fund raise\, free of charge.\nAt this Christmas Market we have the Helensville Lions who will be there with quality second hand books\, a sausage sizzle and raffle.\nWe have also invited the Kaipara College Year 10 Business class in to sell their locally made products- come and support our locals and our local community.\nThere will be something for everybody\, and great Christmas gift ideas. We are hoping to run regular community markets in Helensville throughout the year\, and continue to support our local community. Contact can be made with the organizers at bigfathen@xtra.co.nz \n
URL:https://helensvillecommunitynews.co.nz/event/helensville-christmas-market/
LOCATION:Helensville War Memorial Hall\, 49 Commercial Road\, Helensville\, New Zealand
CATEGORIES:Market
END:VEVENT
END:VCALENDAR