BEGIN:VCALENDAR
VERSION:2.0
PRODID:-//Helensville Community News - ECPv4.6.25//NONSGML v1.0//EN
CALSCALE:GREGORIAN
METHOD:PUBLISH
X-WR-CALNAME:Helensville Community News
X-ORIGINAL-URL:https://helensvillecommunitynews.co.nz
X-WR-CALDESC:Events for Helensville Community News
BEGIN:VEVENT
DTSTART;TZID=Pacific/Auckland:20251129T090000
DTEND;TZID=Pacific/Auckland:20251130T150000
DTSTAMP:20260422T182811
CREATED:20250915T224657Z
LAST-MODIFIED:20250915T224657Z
UID:12764-1764406800-1764514800@helensvillecommunitynews.co.nz
SUMMARY:Helensville Lions Book Fair
DESCRIPTION:This is an event that is rapidly becoming the “Go To” amongst book lovers and follows on from the success of the Autumn Book Fair in May where nearly $10\,000 was raised. The Lions Club of Helensville\, is once again holding their Christmas Book Fair on\, Saturday 29\, 9am to 4pm and Sunday 30 November 2025\, 10am to 3pm of November\, in the Helensville Showgrounds. \nAs a point of difference from other book fairs all our books have been sorted before the event and are not just dumped in boxes on tables for the public to scrabble through. The aim of the Helensville Lions is to make your weekend of browsing as effortless and pleasurable as possible. \nNonfiction is split into twenty separate categories\, from Animals & Pets to Wines including one dedicated to New Zealand plus a large General Non Fiction section. Of special interest this fair is the Maritime Section featuring a large collection of books on boat building\, sailing and solo navigation. \nFiction is arranged alphabetically\, authors from Atwood to Zigman\, with six special interest groups\, the largest of which is the Fantasy section. We also have a great selection of children’s books for all ages. \nBooks are priced to sell at $2.00 and all children’s books being $1 each. \nThere is also a good selection of jigsaws\, board games\, puzzles\, LPs\, DVDs\, CDs and quality magazines available. \nAll funds raised go into The Lions Club of Helensville Charitable Trust\, and are used for the benefit of the local community. \nSmaller donations can be left at Burmester Realty\, Helensville\, or call Chris on 027 646 3324 or Scott 021 0261 4495. \nPlease note that the last date we are accepting books for this Book Fair is Friday 21 November\, this gives us time to categorise the books. \n
URL:https://helensvillecommunitynews.co.nz/event/helensville-lions-book-fair/
LOCATION:Helensville A&P Show Grounds\, 63 Railway Street\, Helensville\, 0800\, New Zealand
CATEGORIES:Book Fair
END:VEVENT
END:VCALENDAR