BEGIN:VCALENDAR
VERSION:2.0
PRODID:-//Helensville Community News - ECPv4.6.25//NONSGML v1.0//EN
CALSCALE:GREGORIAN
METHOD:PUBLISH
X-WR-CALNAME:Helensville Community News
X-ORIGINAL-URL:https://helensvillecommunitynews.co.nz
X-WR-CALDESC:Events for Helensville Community News
BEGIN:VEVENT
DTSTART;TZID=Pacific/Auckland:20161026T193000
DTEND;TZID=Pacific/Auckland:20161026T210000
DTSTAMP:20260425T023331
CREATED:20161004T230909Z
LAST-MODIFIED:20161004T230909Z
UID:4699-1477510200-1477515600@helensvillecommunitynews.co.nz
SUMMARY:Helensville Parakai Ratepayers AGM
DESCRIPTION:Helensville Parakai Ratepayers (Te Awaroa Residents & Ratepayers Association) Annual General Meeting to be held at 7.30pm at Helensville War Memorial Hall meeting room. \n
URL:https://helensvillecommunitynews.co.nz/event/helensville-parakai-ratepayers-agm/
LOCATION:Helensville War Memorial Hall\, 49 Commercial Road\, Helensville\, New Zealand
CATEGORIES:Meeting
END:VEVENT
END:VCALENDAR