BEGIN:VCALENDAR
VERSION:2.0
PRODID:-//Helensville Community News - ECPv4.6.25//NONSGML v1.0//EN
CALSCALE:GREGORIAN
METHOD:PUBLISH
X-WR-CALNAME:Helensville Community News
X-ORIGINAL-URL:https://helensvillecommunitynews.co.nz
X-WR-CALDESC:Events for Helensville Community News
BEGIN:VEVENT
DTSTART;TZID=Pacific/Auckland:20250517T193000
DTEND;TZID=Pacific/Auckland:20250517T230000
DTSTAMP:20260424T165514
CREATED:20250324T022423Z
LAST-MODIFIED:20250324T022430Z
UID:12322-1747510200-1747522800@helensvillecommunitynews.co.nz
SUMMARY:Hoedown at Shed 16
DESCRIPTION:Come and join us at Shed16 for a good old fashioned hoedown in the country!  Special food and drink menus\, country music and line dancing.  Dust off your best cowboy boots and hats and come along! Prizes for the best dressed on the night! \n
URL:https://helensvillecommunitynews.co.nz/event/hoesown-at-shed-16/
LOCATION:Shed 16\, 3 North Cresent\, Kaukapakapa\, New Zealand
END:VEVENT
END:VCALENDAR