BEGIN:VCALENDAR
VERSION:2.0
PRODID:-//Helensville Community News - ECPv4.6.25//NONSGML v1.0//EN
CALSCALE:GREGORIAN
METHOD:PUBLISH
X-WR-CALNAME:Helensville Community News
X-ORIGINAL-URL:https://helensvillecommunitynews.co.nz
X-WR-CALDESC:Events for Helensville Community News
BEGIN:VEVENT
DTSTART;TZID=Pacific/Auckland:20190308T080000
DTEND;TZID=Pacific/Auckland:20190308T110000
DTSTAMP:20260425T234425
CREATED:20190227T224250Z
LAST-MODIFIED:20190227T224250Z
UID:7745-1552032000-1552042800@helensvillecommunitynews.co.nz
SUMMARY:International Women’s Day Breakfast
DESCRIPTION:The Helensville Women and Family Centre invites you to a special breakfast to celebrate the local women making a difference in our community. This year’s guests speakers include local real estate agent Jas Sergeant talking bravely about her journey to live her authentic self\, and counsellor and arts therapist Janet McLeod.\nTickets Available from https://hwfcbreakfast.eventbrite.co.nz \n
URL:https://helensvillecommunitynews.co.nz/event/international-womens-day-breakfast/
LOCATION:Te Whare Oranga o Parakai\, Te Moau Ave\, Parakai\, New Zealand
CATEGORIES:Fundraiser
END:VEVENT
END:VCALENDAR