BEGIN:VCALENDAR
VERSION:2.0
PRODID:-//Helensville Community News - ECPv4.6.25//NONSGML v1.0//EN
CALSCALE:GREGORIAN
METHOD:PUBLISH
X-WR-CALNAME:Helensville Community News
X-ORIGINAL-URL:https://helensvillecommunitynews.co.nz
X-WR-CALDESC:Events for Helensville Community News
BEGIN:VEVENT
DTSTART;TZID=Pacific/Auckland:20221022T120000
DTEND;TZID=Pacific/Auckland:20221022T150000
DTSTAMP:20260425T025218
CREATED:20221005T034334Z
LAST-MODIFIED:20221005T034334Z
UID:10250-1666440000-1666450800@helensvillecommunitynews.co.nz
SUMMARY:Kaipara Coast Sculpture Gardens
DESCRIPTION:To help celebrate the 8th annual Helensville Arts in the Ville event which highlights the endeavours of local artists we have invited acclaimed NZ based International artist Lang Ea to run a rather unusual workshop within the Kaipara Coast Sculpture Gardens.  This is a FREE workshop\, which includes access to the Sculpture Gardens\, being run over 3 x 45min segments (12.00 to 12.45pm\, 1.00 to 1.45pm & 2.00 to 2.45pm) and places are limited so BOOKING IS ESSENTIAL. \n
URL:https://helensvillecommunitynews.co.nz/event/kaipara-coast-sculpture-gardens/
LOCATION:Kaipara Coast Sculpture Gardens\, 1481 Kaipara Coast Highway\, Kaukapakapa\, New Zealand
CATEGORIES:Art Show / Exhibition,FREE EVENTS
END:VEVENT
END:VCALENDAR