BEGIN:VCALENDAR
VERSION:2.0
PRODID:-//Helensville Community News - ECPv4.6.25//NONSGML v1.0//EN
CALSCALE:GREGORIAN
METHOD:PUBLISH
X-WR-CALNAME:Helensville Community News
X-ORIGINAL-URL:https://helensvillecommunitynews.co.nz
X-WR-CALDESC:Events for Helensville Community News
BEGIN:VEVENT
DTSTART;TZID=Pacific/Auckland:20180916T100000
DTEND;TZID=Pacific/Auckland:20180916T130000
DTSTAMP:20260424T210317
CREATED:20180830T225505Z
LAST-MODIFIED:20180830T225505Z
UID:7187-1537092000-1537102800@helensvillecommunitynews.co.nz
SUMMARY:Kaukapakapa Library
DESCRIPTION:Helen Martin \nMeet Helen Martin\, Freelance Journalist\nHelen was first published when\, aged 12; she won an international short story competition and a £100 prize. That win convinced her she could be a professional writer and\, after graduating from Auckland University with an M.A. (Hons) in English\, she followed a dual career as a teacher and freelance non-fiction writer. For many years she taught English and Media Studies at secondary school level\, then film and television studies at tertiary. Her publications include columns as film critic for magazines including the NZ Listener\, On Film and Alternative Cinema and several book chapters\, Te Ara online dictionary entries and co-authored books on New Zealand cinema and television\, one of which won a national award.\nShe’s currently enjoying writing for two rural magazines\, Valley Voice and Helensville Community News\, has written a self-published book on her paternal family history and is now working on its companion\, her maternal family history. Since moving to Helensville she has been helping others with their writing projects.\nCome along and find out more about her career and forthcoming projects.\nFor more information contact Megan Paterson 021959017\, threehorses@xtra.co.nz. \n
URL:https://helensvillecommunitynews.co.nz/event/kaukapakapa-library-12/
LOCATION:Kaukapakapa Library\, 947 Kaipara Coast Highway\, Kaukapakapa\, New Zealand
CATEGORIES:FREE EVENTS
ORGANIZER;CN="Megan%20Paterson":MAILTO:threehourses@xtra.co.nz
END:VEVENT
END:VCALENDAR