BEGIN:VCALENDAR
VERSION:2.0
PRODID:-//Helensville Community News - ECPv4.6.25//NONSGML v1.0//EN
CALSCALE:GREGORIAN
METHOD:PUBLISH
X-WR-CALNAME:Helensville Community News
X-ORIGINAL-URL:https://helensvillecommunitynews.co.nz
X-WR-CALDESC:Events for Helensville Community News
BEGIN:VEVENT
DTSTART;TZID=Pacific/Auckland:20161218T083000
DTEND;TZID=Pacific/Auckland:20161218T140000
DTSTAMP:20260425T111344
CREATED:20161201T235923Z
LAST-MODIFIED:20161201T235923Z
UID:4860-1482049800-1482069600@helensvillecommunitynews.co.nz
SUMMARY:Kaukapakapa Village Market
DESCRIPTION:Held on the 3rd Sunday of every month all year round\, this village market has something for everyone\, friendly people\, great atmosphere and quality hand-made crafts! A great opportunity to grab a bargain.  Inside and outside stalls selling locally-produced hand crafts and outdoor furniture\, fresh local produce\, cakes and preserves\, bacon and cheese\, locally-grown plants\, NZ-made pet food\, pet products\, gifts\, jewellery\, hand made soaps\, hand spun and hand knitted goods\, collectables and bric-a-brac\, sausage sizzle and raffles.  Live music from The Cougar Chorus from 10am to 12pm.  Market enquiries to Sarah 0274 831542 or Email sarah1@maxnet.co.nz. All stalls are $12.  Eftpos cash out available. The first market for 2017 will be held on Sunday 15 January. \n
URL:https://helensvillecommunitynews.co.nz/event/kaukapakapa-village-market-10/
LOCATION:Kaukapakapa Hall\, 947 Kaipara Coast Hwy SH16\, Kaukapakapa\, New Zealand
CATEGORIES:Market
ORGANIZER;CN="Sarah%20Legg":MAILTO:sarah@riversidecrafts.co.nz
END:VEVENT
END:VCALENDAR