BEGIN:VCALENDAR
VERSION:2.0
PRODID:-//Helensville Community News - ECPv4.6.25//NONSGML v1.0//EN
CALSCALE:GREGORIAN
METHOD:PUBLISH
X-WR-CALNAME:Helensville Community News
X-ORIGINAL-URL:https://helensvillecommunitynews.co.nz
X-WR-CALDESC:Events for Helensville Community News
BEGIN:VEVENT
DTSTART;TZID=Pacific/Auckland:20170716T083000
DTEND;TZID=Pacific/Auckland:20170716T130000
DTSTAMP:20260425T002228
CREATED:20170615T233739Z
LAST-MODIFIED:20170630T024546Z
UID:5822-1500193800-1500210000@helensvillecommunitynews.co.nz
SUMMARY:Kaukapakapa Village Market
DESCRIPTION:\nHeld on the 3rd Sunday of every month all year round\, this village market has something for everyone\, live music 10-12pm. Kaukapakapa Library open and much more... \nNew stall-holders are joining us each month\, so there is always something fresh to experience. Stall-holder and busker and music enquiries to Sarah:  Phone - 0274 831542 or Email - sarah1@maxnet.co.nz. Eftpos cash out available. \n\n
URL:https://helensvillecommunitynews.co.nz/event/kaukapakapa-village-market-16/
LOCATION:Kaukapakapa Hall\, 947 Kaipara Coast Hwy SH16\, Kaukapakapa\, New Zealand
CATEGORIES:Market
ORGANIZER;CN="Sarah%20Legg":MAILTO:sarah@riversidecrafts.co.nz
END:VEVENT
END:VCALENDAR