BEGIN:VCALENDAR
VERSION:2.0
PRODID:-//Helensville Community News - ECPv4.6.25//NONSGML v1.0//EN
CALSCALE:GREGORIAN
METHOD:PUBLISH
X-WR-CALNAME:Helensville Community News
X-ORIGINAL-URL:https://helensvillecommunitynews.co.nz
X-WR-CALDESC:Events for Helensville Community News
BEGIN:VEVENT
DTSTART;TZID=Pacific/Auckland:20171119T083000
DTEND;TZID=Pacific/Auckland:20171119T140000
DTSTAMP:20260425T141235
CREATED:20171003T015323Z
LAST-MODIFIED:20171026T215926Z
UID:6238-1511080200-1511100000@helensvillecommunitynews.co.nz
SUMMARY:Kaukapakapa Village Market
DESCRIPTION:Kaukapakapa Hall 8.30am – 2.00pm Held on the 3rd Sunday of every month all year round\, this village market has something for everyone\, friendly people\, great atmosphere and quality stalls with everything from hand-made crafts to pre-loved goods! A great opportunity to pick up something unique or grab a bargain.\nA great selection of inside and outside stalls selling locally-produced handicrafts\, canvas photo art\, fresh local produce\, cakes\, donuts\, preserves\, freshly ground coffee\, locally-grown plants\, gifts\, jewellery\, handmade soaps\, natural skin care & cosmetics\, hand spun and hand knitted goods\, collectibles and bric-a-brac\, books\, car boot\, sausage sizzle\, candy floss\, barista coffee\, exhibitions & authors in the historic Kaukapakapa Library and much more... Plus live music... our musician for November is Foster on the tenor sax. Stall-holder\, busker and music enquiries to Sarah: Phone - 0274 831542 or Email - sarah1@maxnet.co.nz. \n
URL:https://helensvillecommunitynews.co.nz/event/kaukapakapa-village-market-18/
LOCATION:Kaukapakapa Hall\, 947 Kaipara Coast Hwy SH16\, Kaukapakapa\, New Zealand
CATEGORIES:Market
ORGANIZER;CN="Sarah%20Legg":MAILTO:sarah@riversidecrafts.co.nz
END:VEVENT
END:VCALENDAR