BEGIN:VCALENDAR
VERSION:2.0
PRODID:-//Helensville Community News - ECPv4.6.25//NONSGML v1.0//EN
CALSCALE:GREGORIAN
METHOD:PUBLISH
X-WR-CALNAME:Helensville Community News
X-ORIGINAL-URL:https://helensvillecommunitynews.co.nz
X-WR-CALDESC:Events for Helensville Community News
BEGIN:VEVENT
DTSTART;TZID=Pacific/Auckland:20190818T083000
DTEND;TZID=Pacific/Auckland:20190818T130000
DTSTAMP:20260425T040548
CREATED:20190804T215353Z
LAST-MODIFIED:20190804T215405Z
UID:8141-1566117000-1566133200@helensvillecommunitynews.co.nz
SUMMARY:Kaukapakapa Village Market
DESCRIPTION:Held on the 3rd Sunday of every month all year round. With its friendly people\, great atmosphere and a wide selection of quality stalls there’s something for everyone with everything from locally hand-made crafts\, fresh fruit & veg to pre-loved treasures and collectibles. Enjoy a freshly made coffee while you check out the stalls or sit and relax with something tasty from the market cafe while you take in the entertaining atmosphere and live music. There is always something fresh to experience with different musicians\, entertainment and new stall holders joining the market each month—a great morning out for the family. Live music from duo The Roxelles\, Free Face painting\, Kids craft Table from 10am to 12pm. For more information\, stall-holder\, busker and music enquiries contact Sarah:  Phone - 0274 831542 or Email - sarah1@maxnet.co.nz. Eftpos cash out available \n
URL:https://helensvillecommunitynews.co.nz/event/kaukapakapa-village-market-26/
LOCATION:Kaukapakapa Hall\, 947 Kaipara Coast Hwy SH16\, Kaukapakapa\, New Zealand
CATEGORIES:Market
ORGANIZER;CN="Sarah%20Legg":MAILTO:sarah@riversidecrafts.co.nz
END:VEVENT
END:VCALENDAR