BEGIN:VCALENDAR
VERSION:2.0
PRODID:-//Helensville Community News - ECPv4.6.25//NONSGML v1.0//EN
CALSCALE:GREGORIAN
METHOD:PUBLISH
X-WR-CALNAME:Helensville Community News
X-ORIGINAL-URL:https://helensvillecommunitynews.co.nz
X-WR-CALDESC:Events for Helensville Community News
BEGIN:VEVENT
DTSTART;TZID=Pacific/Auckland:20160925T090000
DTEND;TZID=Pacific/Auckland:20160925T130000
DTSTAMP:20260425T154201
CREATED:20160902T012439Z
LAST-MODIFIED:20160902T012439Z
UID:4567-1474794000-1474808400@helensvillecommunitynews.co.nz
SUMMARY:Kid's Kitchen Cooking Course
DESCRIPTION: Three sessions held during the Harvest Market at Te Whare Oranga ô Parakai at 9am\, 10am and 11:30am. While you wander the markets\, you can leave your kids in the capable hands of Chef Keryn who’ll be helping them create some delicious toppings for bruschetta. These classes are immensely popular\, so book early by emailing Keryn at kitchen@thrivekaipara.org.nz. From ages 3+\, $5 each. \n
URL:https://helensvillecommunitynews.co.nz/event/kids-kitchen-cooking-course/
LOCATION:Te Whare Oranga o Parakai\, Te Moau Ave\, Parakai\, New Zealand
CATEGORIES:Market
ORGANIZER;CN="Keryn":MAILTO:kitchen@hcht.co.nz
END:VEVENT
END:VCALENDAR