BEGIN:VCALENDAR
VERSION:2.0
PRODID:-//Helensville Community News - ECPv4.6.25//NONSGML v1.0//EN
CALSCALE:GREGORIAN
METHOD:PUBLISH
X-WR-CALNAME:Helensville Community News
X-ORIGINAL-URL:https://helensvillecommunitynews.co.nz
X-WR-CALDESC:Events for Helensville Community News
BEGIN:VEVENT
DTSTART;TZID=Pacific/Auckland:20241201T100000
DTEND;TZID=Pacific/Auckland:20241201T150000
DTSTAMP:20260422T224957
CREATED:20241101T014423Z
LAST-MODIFIED:20241101T014423Z
UID:12121-1733047200-1733065200@helensvillecommunitynews.co.nz
SUMMARY:Lions Book Fair
DESCRIPTION: \n
URL:https://helensvillecommunitynews.co.nz/event/lions-book-fair-2/
LOCATION:Helensville A&P Show Grounds\, 63 Railway Street\, Helensville\, 0800\, New Zealand
CATEGORIES:Book Fair
END:VEVENT
END:VCALENDAR