BEGIN:VCALENDAR
VERSION:2.0
PRODID:-//Helensville Community News - ECPv4.6.25//NONSGML v1.0//EN
CALSCALE:GREGORIAN
METHOD:PUBLISH
X-WR-CALNAME:Helensville Community News
X-ORIGINAL-URL:https://helensvillecommunitynews.co.nz
X-WR-CALDESC:Events for Helensville Community News
BEGIN:VEVENT
DTSTART;TZID=Pacific/Auckland:20171107T120000
DTEND;TZID=Pacific/Auckland:20171107T200000
DTSTAMP:20260425T111139
CREATED:20171003T020141Z
LAST-MODIFIED:20171003T020141Z
UID:6248-1510056000-1510084800@helensvillecommunitynews.co.nz
SUMMARY:Melbourne Cup Day at RSA
DESCRIPTION:The RSA will be holding it’s popular Melbourne Cup Day again this year. Tickets will be limited and available from the RSA in October. Price includes a two course lunch. \n
URL:https://helensvillecommunitynews.co.nz/event/melbourne-cup-day-at-rsa/
LOCATION:Kaipara Memorial RSA\, 49 Commercial Road\, Helensville\, Auckland\, 0874\, New Zealand
END:VEVENT
END:VCALENDAR