BEGIN:VCALENDAR
VERSION:2.0
PRODID:-//Helensville Community News - ECPv4.6.25//NONSGML v1.0//EN
CALSCALE:GREGORIAN
METHOD:PUBLISH
X-WR-CALNAME:Helensville Community News
X-ORIGINAL-URL:https://helensvillecommunitynews.co.nz
X-WR-CALDESC:Events for Helensville Community News
BEGIN:VEVENT
DTSTART;TZID=Pacific/Auckland:20251118T173000
DTEND;TZID=Pacific/Auckland:20251118T220000
DTSTAMP:20260422T211630
CREATED:20250915T223837Z
LAST-MODIFIED:20250915T223837Z
UID:12762-1763487000-1763503200@helensvillecommunitynews.co.nz
SUMMARY:North West Country Business Awards 2025
DESCRIPTION:Come out and celebrate your business achievements at the North West Country Business Awards gala dinner.  We have 14 awards to give out on the night\, as well as prizes for winners and attendees.  Be entertained by the incredible comedian\, Nick Rado as we celebrate all things local.  Tickets are open to all finalists\, friends\, family and customers. Come along and cheer your favourite business on as they collect their awards. \n  \nTo Vote see here \n
URL:https://helensvillecommunitynews.co.nz/event/north-west-country-business-awards-2025/
LOCATION:Markovina Estate\, 84 Old North Road\, Kumeu\, New Zealand
CATEGORIES:North West Country
END:VEVENT
END:VCALENDAR