BEGIN:VCALENDAR
VERSION:2.0
PRODID:-//Helensville Community News - ECPv4.6.25//NONSGML v1.0//EN
CALSCALE:GREGORIAN
METHOD:PUBLISH
X-WR-CALNAME:Helensville Community News
X-ORIGINAL-URL:https://helensvillecommunitynews.co.nz
X-WR-CALDESC:Events for Helensville Community News
BEGIN:VEVENT
DTSTART;TZID=Pacific/Auckland:20170406T190000
DTEND;TZID=Pacific/Auckland:20170406T220000
DTSTAMP:20260424T220728
CREATED:20170223T233156Z
LAST-MODIFIED:20170223T233156Z
UID:5407-1491505200-1491516000@helensvillecommunitynews.co.nz
SUMMARY:Parent Aid\, Fundraising Quiz Night
DESCRIPTION: \n
URL:https://helensvillecommunitynews.co.nz/event/parent-aid-fundraising-quiz-night/
CATEGORIES:Quiz Night
END:VEVENT
END:VCALENDAR