BEGIN:VCALENDAR
VERSION:2.0
PRODID:-//Helensville Community News - ECPv4.6.25//NONSGML v1.0//EN
CALSCALE:GREGORIAN
METHOD:PUBLISH
X-WR-CALNAME:Helensville Community News
X-ORIGINAL-URL:https://helensvillecommunitynews.co.nz
X-WR-CALDESC:Events for Helensville Community News
BEGIN:VEVENT
DTSTART;TZID=Pacific/Auckland:20180407T100000
DTEND;TZID=Pacific/Auckland:20180407T140000
DTSTAMP:20260424T224456
CREATED:20180313T001935Z
LAST-MODIFIED:20180313T002125Z
UID:6666-1523095200-1523109600@helensvillecommunitynews.co.nz
SUMMARY:River Valley Baptist Family Gala
DESCRIPTION:Come along for some great community time with fun\, budget-friendly food and activities! \nBouncy Castle\, Cafe\, BBQ\, Magic Carpet Rides\, Easter Egg Hunt\, Second Hand Goods & Clothes\, Water Balloon\, Plate Smash\, Produce\, Jams & Baking\, Hot Food\, Face Painting & More........ \n \n
URL:https://helensvillecommunitynews.co.nz/event/river-valley-baptist-family-gala-2/
LOCATION:Rivervalley Baptist Church\, 1 Fordyce Road\, Parakai\, New Zealand
CATEGORIES:Community Event,Market
END:VEVENT
END:VCALENDAR