BEGIN:VCALENDAR
VERSION:2.0
PRODID:-//Helensville Community News - ECPv4.6.25//NONSGML v1.0//EN
CALSCALE:GREGORIAN
METHOD:PUBLISH
X-WR-CALNAME:Helensville Community News
X-ORIGINAL-URL:https://helensvillecommunitynews.co.nz
X-WR-CALDESC:Events for Helensville Community News
BEGIN:VEVENT
DTSTART;TZID=Pacific/Auckland:20161002T080000
DTEND;TZID=Pacific/Auckland:20161002T170000
DTSTAMP:20260425T105205
CREATED:20160902T014402Z
LAST-MODIFIED:20160902T014402Z
UID:4577-1475395200-1475427600@helensvillecommunitynews.co.nz
SUMMARY:Rodney Coast Challenge
DESCRIPTION:A great entry level multisport event with a fantastic family atmosphere. 10 km forest run\, 30 km road cycle\, 24 km mountain bike on rural roads\, 8 km kayak to finish. Course begins at Muriwai Beach on the West Coast north of Auckland and finishes at Wenderholm Regional Park on the east coast. Open to individuals\, teams\, and family groups.  The profits from this event go towards purchasing new equipment\, hiring facilities and other activities for the Kaukapakapa Scout group.  For more information go to www.rcc.org.nz. \n
URL:https://helensvillecommunitynews.co.nz/event/rodney-coast-challenge/
END:VEVENT
END:VCALENDAR